BEGIN:VCALENDAR
VERSION:2.0
PRODID:-//Baerenpfade - ECPv6.15.0.1//NONSGML v1.0//EN
CALSCALE:GREGORIAN
METHOD:PUBLISH
X-WR-CALNAME:Baerenpfade
X-ORIGINAL-URL:https://www.baerenpfade.de
X-WR-CALDESC:Veranstaltungen für Baerenpfade
REFRESH-INTERVAL;VALUE=DURATION:PT1H
X-Robots-Tag:noindex
X-PUBLISHED-TTL:PT1H
BEGIN:VTIMEZONE
TZID:Europe/Berlin
BEGIN:DAYLIGHT
TZOFFSETFROM:+0100
TZOFFSETTO:+0200
TZNAME:CEST
DTSTART:20230326T010000
END:DAYLIGHT
BEGIN:STANDARD
TZOFFSETFROM:+0200
TZOFFSETTO:+0100
TZNAME:CET
DTSTART:20231029T010000
END:STANDARD
END:VTIMEZONE
BEGIN:VEVENT
DTSTART;TZID=Europe/Berlin:20230816T180000
DTEND;TZID=Europe/Berlin:20230816T210000
DTSTAMP:20260422T030423
CREATED:20230217T170414Z
LAST-MODIFIED:20230724T122812Z
UID:923-1692208800-1692219600@www.baerenpfade.de
SUMMARY:Mondhütte- Im Kreis der Frauen
DESCRIPTION:Die Mondhütte ist ein uraltes Ritual der Frauen. Sie ist ein Rückzugsort\, in dem wir Frauen für uns sein dürfen\, ganz wir sein.\nIn der Gemeinschaft\, im Kreis der Frauen erleben wir die Verbindung zu Mutter Erde\, unserer großen Lehrmeisterin und zu Großmutter Mond\, die uns Frauen durch unser Leben begleitet. \nDie Mondhütte findet in den kalten Monaten im Praxisraum statt\, wenn es wärmer wird sind wir im Lotus Belle Zelt oder in der Weidenhütte. \n \nIm Schutz der 28 Stäbe von Großmutter Weide dürfen wir\, sanft gewärmt von der Glut und umhüllt von den Kräuterdüften gemeinsam erleben\, wie Mondhütte entsteht. \nSie hilft bewußt Übergänge zu erleben\, Schwellenübertritte\, wie Frau werden\, Schwangerschaft und den Wechsel in die Großmutterkraft.\nDer Kreis der Frauen trägt uns auch durch Lebenskrisen und persönliche Tiefs- besonders hier zeigt sich die liebe- und kraftvolle Energie um uns zu unterstützen. Was immer gerade dran ist\, hat dort Raum- Geschichten\, Gesänge\, Trommeln\, Gespräche\, Schweigen\, Lachen\, Weinen und die Vielfältigkeit des Lebens. \nDie Besinnung auf unsere ureigenste weibliche Kraft der Reinigung und Heilung hilft uns aus diesem Miteinander Kraft mit in unser Leben zu tragen\, neue Ideen und Visionen mitzunehmen und in die Umsetzung zu bringen. \n  \nDie Mondhütte ist ein Weidengeflecht im Freien\, dass mit Decken eingedeckt wird. In die Mitte werden glühende Kohlen gebracht. Oben gibt es eine Öffnung\, so dass Großmutter Mond bei uns sein kann. Je nach Witterung ist es also mal etwas kühler bzw. heisser. Der Boden ist mit Decken und Fellen ausgelegt. \nDie Kleidung sollte bequem sein und dem Wetter angemessen. Sie kann dreckig werden und bei Regen auch mal etwas nass.\nMitzubringen sind dicke Socken\, eine Decke zum Umhängen und am Besten eine Flasche Wasser.\nDie Kleidung sollte dem Wetter angemessen und bequem sein\, die Schuhe leicht an- und ausziehbar (z.B. Crogs o.ä.) \nFragen und Verbindliche Anmeldung unter baerenpfade@web.de oder 0171-2425707 . \n 
URL:https://www.baerenpfade.de/event/mondhuette-im-kreis-der-frauen-06-2020-2-2-2-2-2-2-2-2-2-2-2-2-3-2/
LOCATION:Praxis BAERENPFADE\, Übelmannastrasse 8\, Altomünster\, 85250\, Deutschland
CATEGORIES:Mondhütte
ATTACH;FMTTYPE=image/jpeg:https://www.baerenpfade.de/wp-content/uploads/2020/02/Mondbluete.jpg
ORGANIZER;CN="Julika Kurz":MAILTO:baerenpfade@web.de
END:VEVENT
END:VCALENDAR