BEGIN:VCALENDAR
VERSION:2.0
PRODID:-//Baerenpfade - ECPv6.15.0.1//NONSGML v1.0//EN
CALSCALE:GREGORIAN
METHOD:PUBLISH
X-WR-CALNAME:Baerenpfade
X-ORIGINAL-URL:https://www.baerenpfade.de
X-WR-CALDESC:Veranstaltungen für Baerenpfade
REFRESH-INTERVAL;VALUE=DURATION:PT1H
X-Robots-Tag:noindex
X-PUBLISHED-TTL:PT1H
BEGIN:VTIMEZONE
TZID:Europe/Berlin
BEGIN:DAYLIGHT
TZOFFSETFROM:+0100
TZOFFSETTO:+0200
TZNAME:CEST
DTSTART:20230326T010000
END:DAYLIGHT
BEGIN:STANDARD
TZOFFSETFROM:+0200
TZOFFSETTO:+0100
TZNAME:CET
DTSTART:20231029T010000
END:STANDARD
END:VTIMEZONE
BEGIN:VEVENT
DTSTART;TZID=Europe/Berlin:20231111T130000
DTEND;TZID=Europe/Berlin:20231111T190000
DTSTAMP:20260421T191737
CREATED:20201221T103136Z
LAST-MODIFIED:20231019T122118Z
UID:778-1699707600-1699729200@www.baerenpfade.de
SUMMARY:Schamanisch- systemische Aufstellung
DESCRIPTION:Aufstellungen sind ein wunderbares Werkzeug\, mit deren Hilfe man tiefe Einblicke in die eigenen Strukturen gewinnen\, sie verändern und Blockaden auflösen kann. \nDie Kombination aus klassischer Aufstellungsarbeit und die ganzheitlichen schamanischen Sicht des Lebens und der Seelen-Aufgabe  entfalten ihre Wirkung. \nDie Themen\, bei deren Lösung die Aufstellungsarbeit hilfreich sein kann\, sind vielfältig. Beispielsweise ungeklärte Familienereignisse\, Unausgesprochenes\, ungeborene Geschwister\, Selbsttötungen\, Krankheiten\, Unfälle\, sowie die aktuelle Arbeits- oder Beziehungssituation\, Körpersymptome und das Finden der Berufung. \nDie Arbeit in der Aufstellung\, unsere eigenen Erkenntnisse und die Auflösungen spiegeln sich danach im Außen wieder. Die tatsächliche Lebenssituation erfährt Veränderung\, die Begegnung mit den aufgestellten Personen beispielsweise mit Eltern\, Geschwistern\, das Gefühl auch zu bereits Verstorbenen und unser eigenes Empfinden verändert sich. \nAufstellungen wirken auf allen Ebenen. \nDas heißt Körper\, Verstand\, Herz und Seele werden davon berührt. Oft dauert es einige Zeit\, bis die Veränderungen spürbar werden\, manchmal sind die Veränderungen jedoch sofort spür- und erlebbar. \nWer nicht selbst eine Aufstellung machen möchte\, oder auch erst mal nur reinschnuppern und anschauen\, was da so passiert\, ist als Stellvertreter auch herzlich willkommen. \nVorkenntnisse sind nicht erforderlich!
URL:https://www.baerenpfade.de/event/schamanisch-systemische-aufstellung-2-2/
CATEGORIES:Schamanisch-systemische Aufstellung
ATTACH;FMTTYPE=image/jpeg:https://www.baerenpfade.de/wp-content/uploads/2020/12/Familie1.jpg
END:VEVENT
END:VCALENDAR