BEGIN:VCALENDAR
VERSION:2.0
PRODID:-//Baerenpfade - ECPv6.15.0.1//NONSGML v1.0//EN
CALSCALE:GREGORIAN
METHOD:PUBLISH
X-ORIGINAL-URL:https://www.baerenpfade.de
X-WR-CALDESC:Veranstaltungen für Baerenpfade
REFRESH-INTERVAL;VALUE=DURATION:PT1H
X-Robots-Tag:noindex
X-PUBLISHED-TTL:PT1H
BEGIN:VTIMEZONE
TZID:Europe/Berlin
BEGIN:DAYLIGHT
TZOFFSETFROM:+0100
TZOFFSETTO:+0200
TZNAME:CEST
DTSTART:20210328T010000
END:DAYLIGHT
BEGIN:STANDARD
TZOFFSETFROM:+0200
TZOFFSETTO:+0100
TZNAME:CET
DTSTART:20211031T010000
END:STANDARD
END:VTIMEZONE
BEGIN:VEVENT
DTSTART;VALUE=DATE:20210410
DTEND;VALUE=DATE:20210411
DTSTAMP:20260423T230122
CREATED:20210215T085806Z
LAST-MODIFIED:20210223T125446Z
UID:801-1618012800-1618099199@www.baerenpfade.de
SUMMARY:Mondhütte Neubau
DESCRIPTION:Großmutter Mond ruft uns. Sie ruft den Kreis der Frauen zusammen um in ihrem Rhythmus unsere Weiblichkeit zu leben. \nDas Weidengeflecht der Hütte hat uns nun lange gedient und möchte erneuert werden\, damit wir wieder einen sicheren Ort für uns haben. \nDie alten Stäbe werden uns die Glut für die neue Hütte bereiten\, so dass ihre Kraft weiterfließen kann. \nBeim Bau der Hütte dürfen wir in die tatkräftige männliche Kraft gehen und dann den Wechsel in die empfangende weibliche Kraft umso deutlicher zu spüren. \nWir beginnen um 10:00 Uhr\, so dass wir ausreichend Pausen einlegen können. \n  \n 
URL:https://www.baerenpfade.de/event/mondhuette-neubau-2/
CATEGORIES:Mondhütte
ATTACH;FMTTYPE=image/jpeg:https://www.baerenpfade.de/wp-content/uploads/2020/02/Mondfeuer.jpg
ORGANIZER;CN="Praxis Baerenpfade":MAILTO:baerenpfade@web.de
END:VEVENT
END:VCALENDAR