BEGIN:VCALENDAR
VERSION:2.0
PRODID:-//Baerenpfade - ECPv6.15.0.1//NONSGML v1.0//EN
CALSCALE:GREGORIAN
METHOD:PUBLISH
X-ORIGINAL-URL:https://www.baerenpfade.de
X-WR-CALDESC:Veranstaltungen für Baerenpfade
REFRESH-INTERVAL;VALUE=DURATION:PT1H
X-Robots-Tag:noindex
X-PUBLISHED-TTL:PT1H
BEGIN:VTIMEZONE
TZID:Europe/Berlin
BEGIN:DAYLIGHT
TZOFFSETFROM:+0100
TZOFFSETTO:+0200
TZNAME:CEST
DTSTART:20210328T010000
END:DAYLIGHT
BEGIN:STANDARD
TZOFFSETFROM:+0200
TZOFFSETTO:+0100
TZNAME:CET
DTSTART:20211031T010000
END:STANDARD
END:VTIMEZONE
BEGIN:VEVENT
DTSTART;VALUE=DATE:20210306
DTEND;VALUE=DATE:20210308
DTSTAMP:20260424T003555
CREATED:20201221T083350Z
LAST-MODIFIED:20210223T125137Z
UID:738-1614988800-1615161599@www.baerenpfade.de
SUMMARY:Schamanischer Pfad
DESCRIPTION:Diese Veranstaltung richtet sich an Menschen\, die den Ruf hören. Die Stimme ihrer Seele\, die ganz und heil sein möchte. \nSchamanismus wird vor dem Gesetz mit einer Religion gleichgesetz\, doch in seiner praktischen Umsetzung\, geschichtlichen Herkunft und der Lehre ist er konfessionsfrei und dient einem größeren Versändnis der Spiritualität und ihrer Bedeutung für unser Leben. \nDie Weltgesundheitsorganisation (WHO) hat bereits 1980 Schamanischen Techniken bei der Behandlung von psychosomatischen Erkrankungen denselben Stellenwert zuerkannt wie der westlichen Medizin. \nDer schamanische Pfad ist ein Angebot\, die schamanische Sichtweise des Lebens und der Seele kennenzulernen\, schamanische Techniken zu erlernen\, sich als Mensch auf allen Ebenen weiterzuentwickeln\, die Eigenheilungsprozesse verstehen und ankurbeln zu lernen und spirituell zu wachsen. \nDiesen Pfad beschreitet anfangs jeder für sich und die eigene Heilung. \nBei manch einem wird sichtbar\, dass die Berufung und der Seelenweg beinhalten\, das Erfahrene einzusetzen\, um andere auf ihrem Heilungsweg zu begleiten. \nBei manch einem stellt sich heraus\, dass die Schöpfung einen Ruf aussendet Schamane/ Schamanin zu sein. \nWas davon für dich gilt\, wirst du auf dem Pfad herausfinden. \nAuf dem schamanischen Pfad zu wandeln bedeutet nicht nur schamanische Techniken aus aller Welt zu erlernen\, sondern die Seele in ihrer tiefe zu ergründen\, sich auf den Weg zumachen\, der eigenen Berufung auf die Spur zu kommen und ihr zu folgen. \nEin Weg\, der auffordert\, die „Hausaufgaben“ als Mensch und Persönlichkeit zu machen\, damit das Erfahrenen und Erlernte auch verantwortlich angewendet werden kann. \n \nMitakuye Oyasin \n 
URL:https://www.baerenpfade.de/event/schamanischer-pfad/
CATEGORIES:Schamanischer Pfad
ATTACH;FMTTYPE=image/jpeg:https://www.baerenpfade.de/wp-content/uploads/2020/12/Baumfrau.jpg
END:VEVENT
BEGIN:VEVENT
DTSTART;VALUE=DATE:20210328
DTEND;VALUE=DATE:20210329
DTSTAMP:20260424T003555
CREATED:20201221T104048Z
LAST-MODIFIED:20210311T072915Z
UID:780-1616889600-1616975999@www.baerenpfade.de
SUMMARY:Kraftort- Steinerne Rinne
DESCRIPTION:Ausflug zu einem besonderen Kraftort in der Oberpfalz \nAm 21. März feiert der keltische Jahreskreis das Fest Ostara\, die Frühlingstagundnachtgleiche. \nDie germanische Göttin Ostara ist die Göttin des Frühlings und der Fruchtbarkeit. Sie bringt die strahlenden Sonne\, das neues Wachstum und die Hoffnung nach der langen dunklen Zeit. \nTraditionell ist dies auch eine Zeit der fließenden Wasser und der Quellen\, wie man heute oft noch an der Ostertradition des Brunnenschmückens beobachten kann. \nIn der Woche vor und nach der Nachtgleiche spüren wir die Energie und können uns von ihr in unserem Leben begleiten lassen. \nDie Steinerne Rinne ist ein magischer Ort tief verborgen mitten den Wälder des Oberpfälzer Juras. Verborgen und nur wenigen bekannt. \nSie ist ein Naturdenkmal\, ein Kraftort und ihr Ursprung eine heilige Quelle. \nKeine Straße oder ausgebauter Weg führt zu ihr\, so dass sie erwandert werden will. Auch wenn wir langsam gehen\, geht es dennoch bergauf\, so dass du gut zu Fuß sein solltest. \nEnde März beginnen die Mischwälder des Jura ihre besonderen Frühlingsmagie zu zeigen. \nDie Exkursion findet nur bei trockenem Wetter statt.
URL:https://www.baerenpfade.de/event/kraftort-steinerne-rinne/
CATEGORIES:Kraftorte
ATTACH;FMTTYPE=image/jpeg:https://www.baerenpfade.de/wp-content/uploads/2020/12/Rinne.jpg
END:VEVENT
END:VCALENDAR