BEGIN:VCALENDAR
VERSION:2.0
PRODID:-//Baerenpfade - ECPv6.15.0.1//NONSGML v1.0//EN
CALSCALE:GREGORIAN
METHOD:PUBLISH
X-ORIGINAL-URL:https://www.baerenpfade.de
X-WR-CALDESC:Veranstaltungen für Baerenpfade
REFRESH-INTERVAL;VALUE=DURATION:PT1H
X-Robots-Tag:noindex
X-PUBLISHED-TTL:PT1H
BEGIN:VTIMEZONE
TZID:Europe/Berlin
BEGIN:DAYLIGHT
TZOFFSETFROM:+0100
TZOFFSETTO:+0200
TZNAME:CEST
DTSTART:20210328T010000
END:DAYLIGHT
BEGIN:STANDARD
TZOFFSETFROM:+0200
TZOFFSETTO:+0100
TZNAME:CET
DTSTART:20211031T010000
END:STANDARD
END:VTIMEZONE
BEGIN:VEVENT
DTSTART;TZID=Europe/Berlin:20210227T130000
DTEND;TZID=Europe/Berlin:20210227T190000
DTSTAMP:20260424T022330
CREATED:20201221T102918Z
LAST-MODIFIED:20201221T102918Z
UID:775-1614430800-1614452400@www.baerenpfade.de
SUMMARY:Schamanisch- systemische Aufstellung
DESCRIPTION:
URL:https://www.baerenpfade.de/event/schamanisch-systemische-aufstellung-2/
CATEGORIES:Schamanisch-systemische Aufstellung
ATTACH;FMTTYPE=image/jpeg:https://www.baerenpfade.de/wp-content/uploads/2020/12/Mobile1.jpg
END:VEVENT
END:VCALENDAR