BEGIN:VCALENDAR
VERSION:2.0
PRODID:-//Baerenpfade - ECPv6.15.0.1//NONSGML v1.0//EN
CALSCALE:GREGORIAN
METHOD:PUBLISH
X-WR-CALNAME:Baerenpfade
X-ORIGINAL-URL:https://www.baerenpfade.de
X-WR-CALDESC:Veranstaltungen für Baerenpfade
REFRESH-INTERVAL;VALUE=DURATION:PT1H
X-Robots-Tag:noindex
X-PUBLISHED-TTL:PT1H
BEGIN:VTIMEZONE
TZID:Europe/Berlin
BEGIN:DAYLIGHT
TZOFFSETFROM:+0100
TZOFFSETTO:+0200
TZNAME:CEST
DTSTART:20200329T010000
END:DAYLIGHT
BEGIN:STANDARD
TZOFFSETFROM:+0200
TZOFFSETTO:+0100
TZNAME:CET
DTSTART:20201025T010000
END:STANDARD
END:VTIMEZONE
BEGIN:VEVENT
DTSTART;TZID=Europe/Berlin:20201121T100000
DTEND;TZID=Europe/Berlin:20201121T160000
DTSTAMP:20260424T070231
CREATED:20200805T102927Z
LAST-MODIFIED:20200805T105217Z
UID:705-1605952800-1605974400@www.baerenpfade.de
SUMMARY:Horoskopaufstellung
DESCRIPTION:
URL:https://www.baerenpfade.de/event/horoskopaufstellung/
ATTACH;FMTTYPE=image/jpeg:https://www.baerenpfade.de/wp-content/uploads/2020/08/horoskop-diese_sternzeichen_sind_am_schlausten-e1596624711762.jpg
END:VEVENT
END:VCALENDAR