BEGIN:VCALENDAR
VERSION:2.0
PRODID:-//Baerenpfade - ECPv6.15.0.1//NONSGML v1.0//EN
CALSCALE:GREGORIAN
METHOD:PUBLISH
X-WR-CALNAME:Baerenpfade
X-ORIGINAL-URL:https://www.baerenpfade.de
X-WR-CALDESC:Veranstaltungen für Baerenpfade
REFRESH-INTERVAL;VALUE=DURATION:PT1H
X-Robots-Tag:noindex
X-PUBLISHED-TTL:PT1H
BEGIN:VTIMEZONE
TZID:Europe/Berlin
BEGIN:DAYLIGHT
TZOFFSETFROM:+0100
TZOFFSETTO:+0200
TZNAME:CEST
DTSTART:20200329T010000
END:DAYLIGHT
BEGIN:STANDARD
TZOFFSETFROM:+0200
TZOFFSETTO:+0100
TZNAME:CET
DTSTART:20201025T010000
END:STANDARD
END:VTIMEZONE
BEGIN:VEVENT
DTSTART;VALUE=DATE:20200801
DTEND;VALUE=DATE:20200907
DTSTAMP:20260424T115300
CREATED:20200805T105752Z
LAST-MODIFIED:20200805T105827Z
UID:718-1596240000-1599436799@www.baerenpfade.de
SUMMARY:Sommerpause
DESCRIPTION:Die Bären und ich machen Urlaub und bilden uns fort. \nBis einschließlich 6.September finden keine Veranstaltungen und Einzeltermine statt. \nIch freu mich auf ein Wiedersehen oder Kennenlernen im Herbst. \nAlles Liebe\, Julika \n 
URL:https://www.baerenpfade.de/event/sommerpause/
ATTACH;FMTTYPE=image/jpeg:https://www.baerenpfade.de/wp-content/uploads/2020/08/VIER-PFOTEN_2016-07-13_006-1927x1333-1920x1328-1.jpg
END:VEVENT
END:VCALENDAR