BEGIN:VCALENDAR
VERSION:2.0
PRODID:-//Baerenpfade - ECPv6.15.0.1//NONSGML v1.0//EN
CALSCALE:GREGORIAN
METHOD:PUBLISH
X-ORIGINAL-URL:https://www.baerenpfade.de
X-WR-CALDESC:Veranstaltungen für Baerenpfade
REFRESH-INTERVAL;VALUE=DURATION:PT1H
X-Robots-Tag:noindex
X-PUBLISHED-TTL:PT1H
BEGIN:VTIMEZONE
TZID:Europe/Berlin
BEGIN:DAYLIGHT
TZOFFSETFROM:+0100
TZOFFSETTO:+0200
TZNAME:CEST
DTSTART:20200329T010000
END:DAYLIGHT
BEGIN:STANDARD
TZOFFSETFROM:+0200
TZOFFSETTO:+0100
TZNAME:CET
DTSTART:20201025T010000
END:STANDARD
END:VTIMEZONE
BEGIN:VEVENT
DTSTART;TZID=Europe/Berlin:20200307T130000
DTEND;TZID=Europe/Berlin:20200307T210000
DTSTAMP:20260424T200219
CREATED:20200220T210539Z
LAST-MODIFIED:20200302T123249Z
UID:637-1583586000-1583614800@www.baerenpfade.de
SUMMARY:Mondhütte- Neubau
DESCRIPTION:Neubau der Mondhütte- Für Frauen\nDie Mondhütte ist ein uraltes Ritual der Frauen. \nSie ist ein Rückzugsort\, in dem wir Frauen für uns sein dürfen\, ganz wir sein. \nIn der Gemeinschaft\, im Kreis der Frauen erleben wir die Verbindung zu Mutter Erde\, unserer großen Lehrmeisterin und zu Großmutter Mond\, die uns Frauen durch unser Leben begleitet. \nIm Schutz der 28 Stäbe von Großmutter Weide dürfen wir\, sanft gewärmt von der Glut und umhüllt von den Kräuterdüften gemeinsam erleben\, wie Mondhütte entsteht. \nAm 7. März werden wir mit der Kraft des nahenden Vollmonds die Hütte erneuern\, die den Jahren und den Stürmen nun nachgegeben hat.\nWährend des Bauens erlebst du das Entstehen dieses heiligen Raumes. Du erfährst\, wie sich die Stäbe verbinden\, welchen Schöpfungsakt wir dabei leisten. \nIm Tun darfst du auch in dir deinen kraftvollen männlichen Anteil in der Aktivität spüren\, der dafür sorgt\, sich selbst einen liebevollen Raum für die eigene Weiblichkeit aufzubauen. \nNach der Fertigstellung werden wir sie feierlich einweihen und gemeinsam in der Hütte zusammensein. \nSie hilft bewußt Übergänge zu erleben\, Schwellenübertritte\, wie Frau werden\, \nSchwangerschaft und den Wechsel in die Großmutterkraft. \nDer Kreis der Frauen trägt uns auch durch Lebenskrisen und persönliche Tiefs- \nbesonders hier zeigt sich die liebe- und kraftvolle Energie um uns zu unterstützen. \nWas immer gerade dran ist\, hat dort Raum- Geschichten\, Gesänge\, Trommeln\, Gespräche\, Schweigen\, Lachen\, Weinen und die Vielfältigkeit des Lebens. \nDie Besinnung auf unsere ureigenste weibliche Kraft der Reinigung und Heilung hilft uns \naus diesem Miteinander Kraft mit in unser Leben zu tragen\, neue Ideen und Visionen mitzunehmen und in die Umsetzung zu bringen. \nKosten: 35\,00 Euro\nZeitrahmen: 13:00 Uhr\, das Ende ist offen \nDie Mondhütte ist ein Weidengeflecht im Freien\, dass mit Decken eingedeckt wird. In die Mitte werden glühende Kohlen gebracht.\nJe nach Witterung ist es also mal etwas kühler bzw. heisser. Der Boden ist mit Decken und Fellen ausgelegt.\nDie Kleidung sollte bequem sein und dem Wetter angemessen. Sie kann dreckig werden und bei Regen auch mal etwas nass.\nDie Schuhe werden vor der Hütte ausgezogen und sollten leicht an- und ausziebar sein.\nMitzubringen sind dicke Socken\, eine Decke zum Umhängen und am Besten eine kleine Flasche Wasser und ein offenes Herz.
URL:https://www.baerenpfade.de/event/mondhuette-neubau/
LOCATION:Praxis BAERENPFADE\, Übelmannastrasse 8\, Altomünster\, 85250\, Deutschland
CATEGORIES:Mondhütte
ATTACH;FMTTYPE=image/jpeg:https://www.baerenpfade.de/wp-content/uploads/2020/02/Mondbluete.jpg
ORGANIZER;CN="Julika Kurz":MAILTO:baerenpfade@web.de
END:VEVENT
BEGIN:VEVENT
DTSTART;TZID=Europe/Berlin:20200321T090000
DTEND;TZID=Europe/Berlin:20200322T160000
DTSTAMP:20260424T200219
CREATED:20200302T123555Z
LAST-MODIFIED:20200309T091405Z
UID:663-1584781200-1584892800@www.baerenpfade.de
SUMMARY:Schamanischer Pfad - Krafttiere
DESCRIPTION:
URL:https://www.baerenpfade.de/event/schamanischer-pfad-krafttiere/
LOCATION:Praxis BAERENPFADE\, Übelmannastrasse 8\, Altomünster\, 85250\, Deutschland
CATEGORIES:Schamanischer Pfad für Fortgereiste
ATTACH;FMTTYPE=image/jpeg:https://www.baerenpfade.de/wp-content/uploads/2020/03/Schamanenweg.jpg
ORGANIZER;CN="Julika Kurz":MAILTO:baerenpfade@web.de
END:VEVENT
BEGIN:VEVENT
DTSTART;TZID=Europe/Berlin:20200324T183000
DTEND;TZID=Europe/Berlin:20200324T210000
DTSTAMP:20260424T200219
CREATED:20200220T205735Z
LAST-MODIFIED:20200302T123243Z
UID:632-1585074600-1585083600@www.baerenpfade.de
SUMMARY:Mondhütte- Im Kreis der Frauen
DESCRIPTION:Die Mondhütte ist ein uraltes Ritual der Frauen. Sie ist ein Rückzugsort\, in dem wir Frauen für uns sein dürfen\, ganz wir sein.\nIn der Gemeinschaft\, im Kreis der Frauen erleben wir die Verbindung zu Mutter Erde\, unserer großen Lehrmeisterin und zu Großmutter Mond\, die uns Frauen durch unser Leben begleitet. \nIm Schutz der 28 Stäbe von Großmutter Weide dürfen wir\, sanft gewärmt von der Glut und umhüllt von den Kräuterdüften gemeinsam erleben\, wie Mondhütte entsteht. \nSie hilft bewußt Übergänge zu erleben\, Schwellenübertritte\, wie Frau werden\, Schwangerschaft und den Wechsel in die Großmutterkraft.\nDer Kreis der Frauen trägt uns auch durch Lebenskrisen und persönliche Tiefs- besonders hier zeigt sich die liebe- und kraftvolle Energie um uns zu unterstützen. Was immer gerade dran ist\, hat dort Raum- Geschichten\, Gesänge\, Trommeln\, Gespräche\, Schweigen\, Lachen\, Weinen und die Vielfältigkeit des Lebens. \nDie Besinnung auf unsere ureigenste weibliche Kraft der Reinigung und Heilung hilft uns aus diesem Miteinander Kraft mit in unser Leben zu tragen\, neue Ideen und Visionen mitzunehmen und in die Umsetzung zu bringen. \n\nKosten: 15\,00 Euro\nZeitrahmen: 18:00 Uhr bis ca. 21:00 Uhr\nAnmeldung: bis 17.03.2020 \nDie Mondhütte ist ein Weidengeflecht im Freien\, dass mit Decken eingedeckt wird. In die Mitte werden glühende Kohlen gebracht. Je nach Witterung ist es also mal etwas kühler bzw. heisser. Der Boden ist mit Decken und Fellen ausgelegt. \nDie Kleidung sollte bequem sein und dem Wetter angemessen. Sie kann dreckig werden und bei Regen auch mal etwas nass.\nMitzubringen sind dicke Socken\, eine Decke zum Umhängen und am Besten eine Flasche Wasser.\nDie Kleidung sollte dem Wetter angemessen und bequem sein\, die Schuhe leicht an- und ausziehbar (z.B. Crogs o.ä.) \nFragen und Verbindliche Anmeldung unter baerenpfade@web.de oder 0171-2425707 .
URL:https://www.baerenpfade.de/event/mondhuette-im-kreis-der-frauen-03-2020/
LOCATION:Praxis BAERENPFADE\, Übelmannastrasse 8\, Altomünster\, 85250\, Deutschland
CATEGORIES:Mondhütte
ATTACH;FMTTYPE=image/jpeg:https://www.baerenpfade.de/wp-content/uploads/2020/02/Mondbluete.jpg
ORGANIZER;CN="Julika Kurz":MAILTO:baerenpfade@web.de
END:VEVENT
BEGIN:VEVENT
DTSTART;TZID=Europe/Berlin:20200328T090000
DTEND;TZID=Europe/Berlin:20200329T160000
DTSTAMP:20260424T200220
CREATED:20200302T124340Z
LAST-MODIFIED:20200302T125014Z
UID:668-1585386000-1585497600@www.baerenpfade.de
SUMMARY:Mein LebensJAhr Zwo für Fortgeschrittene Teil III
DESCRIPTION:Mein LebensJAhr-Initiation Mensch…und was dann?\n \nIm LebensJAhr Eins lerntest du die Rhythmen des Jahres und die dazugehörigen Themen kennen.\nDu erspürtest und erfühltest\, wie es bei dir aussieht mit Themen wie Vertrauen\, Instinkt\, Kontakt\, Verbundenheit usw. und was sie bedeuten\, sie ausmacht. \nDann kommt der 8. Teil- die Initiation Mensch mit einem tiefgehenden Ritual…und dann? \n \nInitiation heißt Beginn\, Geburt und Anfang.\nDas heißt\, jetzt geht es richtig los!\nAll das Erfahrenen und Gelernte will ins Leben\nund in die Tat umgesetzt werden. \n  \nAus diesem Bedürfnis heraus ist das LebensJAhr Zwo entstanden\, das nun zum ersten Mal stattfinden wird. Wir begehen neue Wege und sehen\, wo sie uns hinführen. \n \nIch freue mich den neuen Pfad zu entdecken.
URL:https://www.baerenpfade.de/event/mein-lebensjahr-zwo-fuer-fortgeschrittene-teil-iii/
LOCATION:Praxis BAERENPFADE\, Übelmannastrasse 8\, Altomünster\, 85250\, Deutschland
CATEGORIES:Mein LebensJAhr
ATTACH;FMTTYPE=image/jpeg:https://www.baerenpfade.de/wp-content/uploads/2020/03/HimmbeerQuark.jpg
ORGANIZER;CN="Julika Kurz":MAILTO:baerenpfade@web.de
END:VEVENT
END:VCALENDAR